BEGIN:VCALENDAR
VERSION:2.0
PRODID:-//Martin Street Church of God - ECPv6.3.7//NONSGML v1.0//EN
CALSCALE:GREGORIAN
METHOD:PUBLISH
X-WR-CALNAME:Martin Street Church of God
X-ORIGINAL-URL:https://www.mstcog.org
X-WR-CALDESC:Events for Martin Street Church of God
REFRESH-INTERVAL;VALUE=DURATION:PT1H
X-Robots-Tag:noindex
X-PUBLISHED-TTL:PT1H
BEGIN:VTIMEZONE
TZID:UTC
BEGIN:STANDARD
TZOFFSETFROM:+0000
TZOFFSETTO:+0000
TZNAME:UTC
DTSTART:20240101T000000
END:STANDARD
END:VTIMEZONE
BEGIN:VEVENT
DTSTART;TZID=UTC:20240822T000000
DTEND;TZID=UTC:20241219T000000
DTSTAMP:20260424T153715
CREATED:20240725T225744Z
LAST-MODIFIED:20240725T225744Z
UID:383-1724284800-1734566400@www.mstcog.org
SUMMARY:Senior Wellness Center
DESCRIPTION:There is a Wellness center in the community that offers services to our Seniors. It is a new free initiative from the Fulton County Department of Senior Services & Grady Health System. Services are offered to Seniors that are 65 years of age or older with Medicare Part B. \nSome of the services offered are: \n\nAdvanced care planning\nNeuro-cognitive assessments\nDepression screenings\nFall risk assessments\nHome Safety Evaluations\nEducational Sessions\n\nDates: \nAugust 22nd \nSeptember 19th  \nOctober 17th \nNovember 21st  \nDecember 19th
URL:https://www.mstcog.org/event/senior-wellness-center/
LOCATION:Helene S. Mills Multipurpose Facility\, 515 John Wesley Dobbs Avenue\, Atlanta\, GA\, 30312\, United States
END:VEVENT
END:VCALENDAR