BEGIN:VCALENDAR
VERSION:2.0
PRODID:-//Martin Street Church of God - ECPv6.3.7//NONSGML v1.0//EN
CALSCALE:GREGORIAN
METHOD:PUBLISH
X-WR-CALNAME:Martin Street Church of God
X-ORIGINAL-URL:https://www.mstcog.org
X-WR-CALDESC:Events for Martin Street Church of God
REFRESH-INTERVAL;VALUE=DURATION:PT1H
X-Robots-Tag:noindex
X-PUBLISHED-TTL:PT1H
BEGIN:VTIMEZONE
TZID:UTC
BEGIN:STANDARD
TZOFFSETFROM:+0000
TZOFFSETTO:+0000
TZNAME:UTC
DTSTART:20240101T000000
END:STANDARD
END:VTIMEZONE
BEGIN:VEVENT
DTSTART;VALUE=DATE:20240728
DTEND;VALUE=DATE:20240729
DTSTAMP:20260425T164316
CREATED:20240712T053011Z
LAST-MODIFIED:20240712T155142Z
UID:368-1722124800-1722211199@www.mstcog.org
SUMMARY:Praise on the Block Back-to-School Bash
DESCRIPTION:Doors Open at 12:45 pm and kick off at 1:00 pm
URL:https://www.mstcog.org/event/praise-on-the-block-back-to-school-bash/
END:VEVENT
END:VCALENDAR