BEGIN:VCALENDAR
VERSION:2.0
PRODID:-//Martin Street Church of God - ECPv6.3.7//NONSGML v1.0//EN
CALSCALE:GREGORIAN
METHOD:PUBLISH
X-WR-CALNAME:Martin Street Church of God
X-ORIGINAL-URL:https://www.mstcog.org
X-WR-CALDESC:Events for Martin Street Church of God
REFRESH-INTERVAL;VALUE=DURATION:PT1H
X-Robots-Tag:noindex
X-PUBLISHED-TTL:PT1H
BEGIN:VTIMEZONE
TZID:UTC
BEGIN:STANDARD
TZOFFSETFROM:+0000
TZOFFSETTO:+0000
TZNAME:UTC
DTSTART:20250101T000000
END:STANDARD
END:VTIMEZONE
BEGIN:VEVENT
DTSTART;TZID=UTC:20250208T100000
DTEND;TZID=UTC:20250208T153000
DTSTAMP:20260422T114423
CREATED:20250202T035432Z
LAST-MODIFIED:20250202T035617Z
UID:429-1739008800-1739028600@www.mstcog.org
SUMMARY:The Marriage Silo
DESCRIPTION:
URL:https://www.mstcog.org/event/the-marriage-silo/
END:VEVENT
BEGIN:VEVENT
DTSTART;TZID=UTC:20250618T180000
DTEND;TZID=UTC:20250620T203000
DTSTAMP:20260422T114423
CREATED:20250601T014029Z
LAST-MODIFIED:20250601T020157Z
UID:451-1750269600-1750451400@www.mstcog.org
SUMMARY:Vacation Bible School Registration QR code and Link
DESCRIPTION:What time is it?!?! \nIt’s time for VBS  \nCelebrating Joseph’s Journey and Juneteenth through 135 years at MSTCOG \nFrom Wednesday-Friday \, June 18th-20th. Nightly 6:00-8:30 \nRegistration is via the attached QR code or Link: \nhttps://forms.gle/HnCMs3QDEeJsJ6Zw7 \n \nAll are invited family\, friends\, neighbors\, and the community.  \nCome join us in this 3-day celebration
URL:https://www.mstcog.org/event/vacation-bible-school-registration-qr-code-and-link/
END:VEVENT
END:VCALENDAR